BEGIN:VCALENDAR
VERSION:2.0
PRODID:icalendar-ruby
CALSCALE:GREGORIAN
METHOD:PUBLISH
BEGIN:VEVENT
DTSTAMP:20260422T090913Z
UID:50-559558@covenantdtc.org
DTSTART:20260531T173000Z
DTEND:20260531T190000Z
CLASS:PUBLIC
CREATED:20260409T124555
DESCRIPTION:Sunday\, May 31st we'll have a church-wide potluck run by our I
 nreach team. Stay tuned for more details about what'll be served as a main
  course. Please plan to bring a side or dessert! 
LAST-MODIFIED:20260409T124555
LOCATION:Covenant DTC
SUMMARY:Church-Wide Potluck
URL;VALUE=URI:https://covenantdtc.org/events/church-wide-potluck/2026-05-31
ATTACH;FILENAME=Website Event Graphics (2160 x 1080 px)-47.png;FMTTYPE=imag
 e/png:https://dq5pwpg1q8ru0.cloudfront.net/2026/04/09/18/45/55/c2862ac4-ce
 2d-42e5-a676-e6b3c2bb728e/Website%20Event%20Graphics%20(2160%20x%201080%20
 px)-47.png
END:VEVENT
END:VCALENDAR
