BEGIN:VCALENDAR
VERSION:2.0
PRODID:icalendar-ruby
CALSCALE:GREGORIAN
METHOD:PUBLISH
BEGIN:VEVENT
DTSTAMP:20260424T162237Z
UID:6-601694@covenantdtc.org
DTSTART:20261016T180000Z
DTEND:20261016T223000Z
CLASS:PUBLIC
CREATED:20260424T091422
DESCRIPTION:\n\nAbout the Pantry\nFor over 29 years\, Covenant Cupboard Foo
 d Pantry (CCFP) has reliably served those facing food insecurity in a resp
 ectful and compassionate environment. CCFP is an all-volunteer organizatio
 n\, and as such the organization’s annual budget is totally devoted to f
 ood pantry operations: food purchases\, supplies\, rent\, transportation\,
  and maintaining our resources. The longevity and evolution of the food pa
 ntry is made possible through the valuable support of volunteers and commu
 nity organizations dedicated to these efforts.\nFind out more about the Co
 venant Cupboard HERE!\n\n
LAST-MODIFIED:20260424T091422
LOCATION:Covenant Cupboard
SUMMARY:Covenant Cupboard Food Pantry Open
URL;VALUE=URI:https://covenantdtc.org/events/covenant-cupboard-food-pantry-
 open/2026-10-16
ATTACH;FILENAME=Website Event Graphics (2160 x 1080 px)-9.png;FMTTYPE=image
 /png:https://dq5pwpg1q8ru0.cloudfront.net/2026/01/28/19/14/05/cbb5f3c2-8cf
 1-42e4-a017-19a74a8b87db/Website%20Event%20Graphics%20(2160%20x%201080%20p
 x)-9.png
END:VEVENT
END:VCALENDAR
